Workbook

Sheet 투개표결과
A2: 2011년 하반기 재·보궐선거 투·개표 결과
A4: 1. 후보자등록상황
A5: 선거구분 | B5: 시도명 | C5: 선거구명 | D5: 등 록 후보자수 | E5: 사퇴·사망 ·등록무효 | F5: 최 종 후보자수 | H5: 경쟁률 | J5: 비고
A6: 합 계 | D6: =SUM(D7:D20) -> 162 | E6: =SUM(E7:E20) -> 4 | F6: =SUM(F7:G20) -> 158 | H6: 3.8 : 1
A7: 광 역 단체장 | B7: 서울 | C7: 서울특별시 | D7: 4 | E7: 1 | F7: =D7-E7 -> 3 | H7: 3 : 1
A8: 기 초 단체장 | B8: 서울 | C8: 양천구 | D8: 5 | E8: 0 | F8: =D8-E8 -> 5 | H8: 5 : 1
B9: 부산 | C9: 동구 | D9: 4 | E9: 0 | F9: =D9-E9 -> 4 | H9: 4 : 1
B10: 대구 | C10: 서구 | D10: 2 | E10: 0 | F10: =D10-E10 -> 2 | H10: 2 : 1
B11: 강원 | C11: 인제군 | D11: 4 | E11: 0 | F11: =D11-E11 -> 4 | H11: 4 : 1
B12: 충북 | C12: 충주시 | D12: 4 | E12: 0 | F12: =D12-E12 -> 4 | H12: 4 : 1
B13: 충남 | C13: 서산시 | D13: 5 | E13: 1 | F13: 4 | H13: 4 : 1
B14: 전북 | C14: 남원시 | D14: 3 | E14: 0 | F14: =D14-E14 -> 3 | H14: 3 : 1
C15: 순창군 | D15: 2 | E15: 0 | F15: =D15-E15 -> 2 | H15: 2 : 1
B16: 경북 | C16: 울릉군 | D16: 7 | E16: 0 | F16: =D16-E16 -> 7 | H16: 7 : 1
C17: 칠곡군 | D17: 9 | E17: 0 | F17: =D17-E17 -> 9 | H17: 9 : 1
B18: 경남 | C18: 함양군 | D18: 4 | E18: 0 | F18: =D18-E18 -> 4 | H18: 4 : 1
A19: 광역의원(11) | D19: 45 | E19: 1 | F19: =D19-E19 -> 44 | H19: 4.1 : 1
A20: 기초의원(19) | D20: 64 | E20: 1 | F20: =D20-E20 -> 63 | H20: 3.4 : 1
A22: 2. 투표상황
A23: 가. 선거구별 투표결과
A24: 선거구분 | C24: 시도명 | D24: 선거구명 | E24: 선거인수 | G24: 투표자수 | I24: 투표율 (%) | J24: 비고
A25: 합 계 | E25: 10020325 | G25: 4596797 | I25: =G25/E25 -> 0.4587473
A26: 광역단체장 | C26: 서울 | D26: 서울특별시 | E26: 8374067 | G26: =VLOOKUP(D26,'(별지2)후보자별득표상황'!$C$6:$E$165,3,FALSE) -> 4066557 | I26: =VLOOKUP(D26,'(별지2)후보자별득표상황'!$D$6:$E$165,2,FALSE) -> 0.48561314
A27: 기초단체장 | C27: 서울 | D27: 양천구 | E27: 389376 | G27: =VLOOKUP(D27,'(별지2)후보자별득표상황'!$C$6:$E$165,3,FALSE) -> 196153 | I27: =VLOOKUP(D27,'(별지2)후보자별득표상황'!$D$6:$E$165,2,FALSE) -> 0.50376243
C28: 부산 | D28: 동구 | E28: 86335 | G28: =VLOOKUP(D28,'(별지2)후보자별득표상황'!$C$6:$E$165,3,FALSE) -> 34134 | I28: =VLOOKUP(D28,'(별지2)후보자별득표상황'!$D$6:$E$165,2,FALSE) -> 0.39536688
C29: 대구 | D29: 서구 | E29: 185980 | G29: =VLOOKUP(D29,'(별지2)후보자별득표상황'!$C$6:$E$165,3,FALSE) -> 41457 | I29: =VLOOKUP(D29,'(별지2)후보자별득표상황'!$D$6:$E$165,2,FALSE) -> 0.22291107
C30: 강원 | D30: 인제군 | E30: 25274 | G30: =VLOOKUP(D30,'(별지2)후보자별득표상황'!$C$6:$E$165,3,FALSE) -> 15308 | I30: =VLOOKUP(D30,'(별지2)후보자별득표상황'!$D$6:$E$165,2,FALSE) -> 0.60568173
C31: 충북 | D31: 충주시 | E31: 165016 | G31: =VLOOKUP(D31,'(별지2)후보자별득표상황'!$C$6:$E$165,3,FALSE) -> 69624 | I31: =VLOOKUP(D31,'(별지2)후보자별득표상황'!$D$6:$E$165,2,FALSE) -> 0.42192272
C32: 충남 | D32: 서산시 | E32: 124553 | G32: =VLOOKUP(D32,'(별지2)후보자별득표상황'!$C$6:$E$165,3,FALSE) -> 48902 | I32: =VLOOKUP(D32,'(별지2)후보자별득표상황'!$D$6:$E$165,2,FALSE) -> 0.39262001
C33: 전북 | D33: 남원시 | E33: 70032 | G33: =VLOOKUP(D33,'(별지2)후보자별득표상황'!$C$6:$E$165,3,FALSE) -> 39381 | I33: =VLOOKUP(D33,'(별지2)후보자별득표상황'!$D$6:$E$165,2,FALSE) -> 0.56232865
D34: 순창군 | E34: 24827 | G34: =VLOOKUP(D34,'(별지2)후보자별득표상황'!$C$6:$E$165,3,FALSE) -> 17738 | I34: =VLOOKUP(D34,'(별지2)후보자별득표상황'!$D$6:$E$165,2,FALSE) -> 0.71446409
C35: 경북 | D35: 울릉군 | E35: 9456 | G35: =VLOOKUP(D35,'(별지2)후보자별득표상황'!$C$6:$E$165,3,FALSE) -> 6919 | I35: =VLOOKUP(D35,'(별지2)후보자별득표상황'!$D$6:$E$165,2,FALSE) -> 0.73170474
D36: 칠곡군 | E36: 92136 | G36: =VLOOKUP(D36,'(별지2)후보자별득표상황'!$C$6:$E$165,3,FALSE) -> 33664 | I36: =VLOOKUP(D36,'(별지2)후보자별득표상황'!$D$6:$E$165,2,FALSE) -> 0.36537293
C37: 경남 | D37: 함양군 | E37: 34445 | G37: =VLOOKUP(D37,'(별지2)후보자별득표상황'!$C$6:$E$165,3,FALSE) -> 24132 | I37: =VLOOKUP(D37,'(별지2)후보자별득표상황'!$D$6:$E$165,2,FALSE) -> 0.70059515
A38: 광역의원 | C38: 서울 | D38: 동대문구제2 | E38: 90846 | G38: =VLOOKUP(D38,'(별지2)후보자별득표상황'!$C$6:$E$165,3,FALSE) -> 43628 | I38: =VLOOKUP(D38,'(별지2)후보자별득표상황'!$D$6:$E$165,2,FALSE) -> 0.48024129
D39: 노원구제6 | E39: 91494 | G39: =VLOOKUP(D39,'(별지2)후보자별득표상황'!$C$6:$E$165,3,FALSE) -> 47184 | I39: =VLOOKUP(D39,'(별지2)후보자별득표상황'!$D$6:$E$165,2,FALSE) -> 0.51570595
C40: 대구 | D40: 수성구제3 | E40: 74302 | G40: =VLOOKUP(D40,'(별지2)후보자별득표상황'!$C$6:$E$165,3,FALSE) -> 12325 | I40: =VLOOKUP(D40,'(별지2)후보자별득표상황'!$D$6:$E$165,2,FALSE) -> 0.1658771
C41: 인천 | D41: 남구제1 | E41: 81910 | G41: =VLOOKUP(D41,'(별지2)후보자별득표상황'!$C$6:$E$165,3,FALSE) -> 13353 | I41: =VLOOKUP(D41,'(별지2)후보자별득표상황'!$D$6:$E$165,2,FALSE) -> 0.16302039
C42: 울산 | D42: 남구제1(울산) | E42: 51102 | G42: =VLOOKUP(D42,'(별지2)후보자별득표상황'!$C$6:$E$165,3,FALSE) -> 16139 | I42: =VLOOKUP(D42,'(별지2)후보자별득표상황'!$D$6:$E$165,2,FALSE) -> 0.31581934
C43: 충남 | D43: 서산시제2 | E43: 59051 | G43: =VLOOKUP(D43,'(별지2)후보자별득표상황'!$C$6:$E$165,3,FALSE) -> 24271 | I43: =VLOOKUP(D43,'(별지2)후보자별득표상황'!$D$6:$E$165,2,FALSE) -> 0.41101759
...

Sheet (별지1)시간대별투표진행상황
A1: [별지 1]
A2: 시간대별 투표진행상황
Q3: (단위 : %)
A4: 시간대 구 분 | D4: 0.29166667 | E4: 0.375 | F4: 0.45833333 | G4: 0.5 | H4: 0.54166667 | I4: 0.58333333 | J4: 0.625 | K4: 0.66666667 | L4: 0.70833333 | M4: 0.75 | N4: 0.79166667 | O4: 0.83333333 | P4: 투표상황(명)
P5: 선거인수 | Q5: 투표수
A6: 전체평균 | D6: 2 | E6: 10.1 | F6: 18.3 | G6: 21.4 | H6: 25.4 | I6: 28.1 | J6: 30.6 | K6: 33 | L6: 35.3 | M6: 37.8 | N6: 40.8 | O6: 45.9 | P6: 10020325 | Q6: 4596797
A7: 서울특별시장 | D7: 2.1 | E7: 10.9 | F7: 19.4 | G7: 22.7 | H7: 26.8 | I7: 29.5 | J7: 32.2 | K7: 34.7 | L7: 37.2 | M7: 39.9 | N7: 42.9 | O7: 48.6 | P7: 8374067 | Q7: 4066557
B8: 주민투표(서울) | D8: 1.7 | E8: 6.6 | F8: 11.5 | G8: 13.4 | H8: 15.8 | I8: 17.1 | J8: 18.4 | K8: 19.6 | L8: 20.8 | M8: 22.1 | N8: 23.5 | O8: 25.7 | P8: 8387278 | Q8: 2159095
B9: 5회 지선(서울) | D9: 2.4 | E9: 9 | F9: 17.6 | G9: 23.6 | H9: 30.8 | I9: 35.8 | J9: 39.9 | K9: 44.5 | L9: 47.9 | M9: 53.9 | P9: 8211461 | Q9: 4426182
A10: 기초단체장(11) | D10: 1.9 | E10: 8.8 | F10: 17.6 | G10: 20.6 | H10: 25 | I10: 27.6 | J10: 30.1 | K10: 32.4 | L10: 34.6 | M10: 36.8 | N10: 39.9 | O10: 43.7 | P10: 1207430 | Q10: 527412
A11: 광역의원(11) | D11: 1.7 | E11: 7.5 | F11: 14.5 | G11: 17 | H11: 20.7 | I11: 22.9 | J11: 25 | K11: 26.9 | L11: 28.7 | M11: 30.7 | N11: 33.2 | O11: 36.5 | P11: 591461 | Q11: 215929
A12: 기초의원(19) | D12: 1.3 | E12: 6.1 | F12: 12 | G12: 14.4 | H12: 17.5 | I12: 19.4 | J12: 21.2 | K12: 22.9 | L12: 24.5 | M12: 26.3 | N12: 28.5 | O12: 31.8 | P12: 738954 | Q12: 234538
A15: 시간대 구 분 | D15: 0.29166667 | E15: 0.375 | F15: 0.45833333 | G15: 0.5 | H15: 0.54166667 | I15: 0.58333333 | J15: 0.625 | K15: 0.66666667 | L15: 0.70833333 | M15: 0.75 | N15: 0.79166667 | O15: 0.83333333 | P15: 최종투표율 | Q15: 비 고
A16: '11. 상반기 재·보궐선거 | C16: 전체 | D16: 2.1 | E16: 8.3 | F16: 16.6 | G16: 19.7 | H16: 23.7 | I16: 26 | J16: 28.2 | K16: 30.1 | L16: 32 | M16: 33.8 | N16: 36.1 | O16: 39.4 | P16: 39.4 | Q16: 국회의원 3 광역단체장 1 기초단체장 6 광역의원 5 기초의원 23
C17: 지선 | D17: 2.0277014 | E17: 8.0202466 | F17: 16.345592 | G17: 19.560307 | H17: 23.581336 | I17: 25.891183 | J17: 28.125507 | K17: 29.987887 | L17: 31.740486 | M17: 33.506369 | N17: 35.647469 | O17: 38.465041 | P17: 38.465041
A18: '10. 하반기 재·보궐선거 | D18: 1.1 | E18: 5.1 | F18: 11.4 | G18: 14.3 | H18: 17 | I18: 19.8 | J18: 21.7 | K18: 23.5 | L18: 25 | M18: 26.7 | N18: 28.5 | O18: 30.9 | P18: 30.9 | Q18: 기초단체장 2광역의원 1 기초의원 3
A19: '10. 상반기 재·보궐선거 | D19: 2.1 | E19: 7.6 | F19: 14.2 | G19: 16.7 | H19: 20 | I19: 21.8 | J19: 23.6 | K19: 25.3 | L19: 27 | M19: 28.8 | N19: 30.8 | O19: 34.1 | P19: 34.1 | Q19: 국선 8

Sheet (별지2)후보자별득표상황
A1: [별지 2]
A3: 후보자별 득표상황
A4: 선거 | B4: 시도명 | C4: 선거구명 | D4: 선거인수 | E4: 투표수 | F4: 후보자별 득표수(득표율) | J4: 무 효 | K4: 기권자수
A5: 구분 | E5: (투표율) | J5: 투표수
A6: 광 역 단체장 | B6: 서울 | C6: 서울특별시 | D6: =VLOOKUP(C6,투개표결과!$D$26:$G$68,2,FALSE) -> 8374067 | E6: 4066557 | F6: 한나라당 | G6: 무소속 | H6: 무소속 | I6: 계 | J6: =E6-I8 -> 24793 | K6: =D6-E6 -> 4307510
D7: 서울특별시 | E7: =E6/D6 -> 0.48561314 | F7: 나경원 | G7: 배일도 | H7: 박원순 | J7: =J6/E6 -> 0.0060968038
F8: 1867880 | G8: 15408 | H8: 2158476 | I8: =SUM(F8:H8) -> 4041764
F9: =F8/$I$8 -> 0.46214475 | G9: =G8/$I$8 -> 0.0038121969 | H9: =H8/$I$8 -> 0.53404306
A10: 기 초 단체장 | B10: 서울 | C10: 양천구 | D10: =VLOOKUP(C10,투개표결과!$D$26:$G$68,2,FALSE) -> 389376 | E10: 196153 | F10: 한나라당 | G10: 민주당 | H10: 진보신당 | I10: 무소속 | J10: =E10-I16 -> 2849 | K10: =D10-E10 -> 193223
D11: 양천구 | E11: =E10/D10 -> 0.50376243 | F11: 추재엽 | G11: 김수영 | H11: 민동원 | I11: 정별진 | J11: =J10/E10 -> 0.014524376
F12: 94642 | G12: 74514 | H12: 4230 | I12: 2810
F13: =F12/$I$16 -> 0.48960187 | G13: =G12/$I$16 -> 0.38547573 | H13: =H12/$I$16 -> 0.02188263 | I13: =I12/$I$16 -> 0.014536688
F14: 무소속 | I14: 계
F15: 김승제
F16: 17108 | I16: =SUM(F12:I12,F16) -> 193304
F17: =F16/$I$16 -> 0.088503083
B18: 부산 | C18: 동구 | D18: =VLOOKUP(C18,투개표결과!$D$26:$G$68,2,FALSE) -> 86335 | E18: 34134 | F18: 한나라당 | G18: 민주당 | H18: 무소속 | I18: 무소속 | J18: =E18-I24 -> 158 | K18: =D18-E18 -> 52201
D19: 동구 | E19: =E18/D18 -> 0.39536688 | F19: 정영석 | G19: 이해성 | H19: 이정복 | I19: 오경희 | J19: =J18/E18 -> 0.0046288158
F20: 17357 | G20: 12435 | H20: 669 | I20: 3515
F21: =F20/$I$24 -> 0.51086061 | G21: =G20/$I$24 -> 0.36599364 | H21: =H20/$I$24 -> 0.01969037 | I21: =I20/$I$24 -> 0.10345538
I22: 계
I24: =SUM(F20:I20,F24) -> 33976
B26: 대구 | C26: 서구 | D26: =VLOOKUP(C26,투개표결과!$D$26:$G$68,2,FALSE) -> 185980 | E26: 41457 | F26: 한나라당 | G26: 친박연합 | I26: 계 | J26: =E26-I28 -> 335 | K26: =D26-E26 -> 144523
D27: 서구 | E27: =E26/D26 -> 0.22291107 | F27: 강성호 | G27: 신점식 | J27: =J26/E26 -> 0.0080806619
F28: 22624 | G28: 18498 | I28: =SUM(F28:G28) -> 41122
F29: =F28/$I$28 -> 0.55016779 | G29: =G28/$I$28 -> 0.44983221
B30: 강원도 | C30: 인제군 | D30: =VLOOKUP(C30,투개표결과!$D$26:$G$68,2,FALSE) -> 25274 | E30: 15308 | F30: 한나라당 | G30: 민주당 | H30: 민주노동당 | I30: 무소속 | J30: =E30-I36 -> 128 | K30: =D30-E30 -> 9966
D31: 인제군 | E31: =E30/D30 -> 0.60568173 | F31: 이순선 | G31: 최상기 | H31: 박승흡 | I31: 김좌훈 | J31: =J30/E30 -> 0.008361641
F32: 6558 | G32: 6486 | H32: 1671 | I32: 465
F33: =F32/$I$36 -> 0.43201581 | G33: =G32/$I$36 -> 0.42727273 | H33: =H32/$I$36 -> 0.11007905 | I33: =I32/$I$36 -> 0.030632411
I34: 계
I36: =SUM(F32:I32) -> 15180
B38: 충북 | C38: 충주시 | D38: =VLOOKUP(C38,투개표결과!$D$26:$G$68,2,FALSE) -> 165016 | E38: 69624 | F38: 한나라당 | G38: 민주당 | H38: 미래연합 | I38: 무소속 | J38: =E38-I44 -> 262 | K38: =D38-E38 -> 95392
D39: 충주시 | E39: =E38/D38 -> 0.42192272 | F39: 이종배 | G39: 박상규 | H39: 김호복 | I39: 한창희 | J39: =J38/E38 -> 0.0037630702
F40: 34899 | G40: 16492 | H40: 8899 | I40: 9072
F41: =F40/$I$44 -> 0.50314293 | G41: =G40/$I$44 -> 0.23776708 | H41: =H40/$I$44 -> 0.12829792 | I41: =I40/$I$44 -> 0.13079208
I42: 계
I44: =SUM(F40:I40) -> 69362
B46: 충남 | C46: 서산시 | D46: =VLOOKUP(C46,투개표결과!$D$26:$G$68,2,FALSE) -> 124553 | E46: 48902 | F46: 한나라당 | G46: 민주당 | H46: 자유선진당 | I46: 무소속 | J46: =E46-I52 -> 1122 | K46: =D46-E46 -> 75651
D47: 서산시 | E47: =E46/D46 -> 0.39262001 | F47: 이완섭 | G47: 노상근 | H47: 박상무 | I47: 차성남 | J47: =J46/E46 -> 0.022943847
...
